BEGIN:VCALENDAR
VERSION:2.0
PRODID:-//jEvents 2.0 for Joomla//EN
CALSCALE:GREGORIAN
METHOD:PUBLISH
BEGIN:VTIMEZONE
TZID:Europe/Berlin
BEGIN:STANDARD
DTSTART:20250206T170000
RDATE:20250330T030000
TZOFFSETFROM:+0200
TZOFFSETTO:+0100
TZNAME:Europe/Berlin CET
END:STANDARD
BEGIN:STANDARD
DTSTART:20251026T020000
RDATE:20260329T030000
TZOFFSETFROM:+0200
TZOFFSETTO:+0100
TZNAME:Europe/Berlin CET
END:STANDARD
BEGIN:STANDARD
DTSTART:20261025T020000
RDATE:20270328T030000
TZOFFSETFROM:+0200
TZOFFSETTO:+0100
TZNAME:Europe/Berlin CET
END:STANDARD
BEGIN:STANDARD
DTSTART:20271031T020000
RDATE:20280326T030000
TZOFFSETFROM:+0200
TZOFFSETTO:+0100
TZNAME:Europe/Berlin CET
END:STANDARD
BEGIN:STANDARD
DTSTART:20281029T020000
RDATE:20290325T030000
TZOFFSETFROM:+0200
TZOFFSETTO:+0100
TZNAME:Europe/Berlin CET
END:STANDARD
BEGIN:DAYLIGHT
DTSTART:20250330T030000
RDATE:20251026T020000
TZOFFSETFROM:+0100
TZOFFSETTO:+0200
TZNAME:Europe/Berlin CEST
END:DAYLIGHT
BEGIN:DAYLIGHT
DTSTART:20260329T030000
RDATE:20261025T020000
TZOFFSETFROM:+0100
TZOFFSETTO:+0200
TZNAME:Europe/Berlin CEST
END:DAYLIGHT
BEGIN:DAYLIGHT
DTSTART:20270328T030000
RDATE:20271031T020000
TZOFFSETFROM:+0100
TZOFFSETTO:+0200
TZNAME:Europe/Berlin CEST
END:DAYLIGHT
BEGIN:DAYLIGHT
DTSTART:20280326T030000
RDATE:20281029T020000
TZOFFSETFROM:+0100
TZOFFSETTO:+0200
TZNAME:Europe/Berlin CEST
END:DAYLIGHT
END:VTIMEZONE
BEGIN:VEVENT
UID:73428affb9aaf61423ac8158537a661a
CATEGORIES:Herren 2
CREATED:20260104T110305
SUMMARY:H BK 	|	TTC Spaichingen II - TTC Sulgen II
URL;VALUE=URI:https://ttc-spaichingen.de/Joomla/index.php/component/jevents/icalrepeat.de
 tail/2026/02/07/1624/-/h-bk-ttc-spaichingen-ii-ttc-sulgen-ii?Itemid=301&amp
 ;tmpl=component
DESCRIPTION: Dieser Event wurde importiert von: https://ttc-spaichingen.de/Joomla/index
 .php/component/jevents/icalrepeat.detail/2026/02/07/1624/-/h-bk-ttc-spaichi
 ngen-ii-ttc-sulgen-ii?Itemid=301&amp;tmpl=component
X-ALT-DESC;FMTTYPE=text/html: <a href="https://ttc-spaichingen.de/Joomla/index.php/component/jevents/ica
 lrepeat.detail/2026/02/07/1624/-/h-bk-ttc-spaichingen-ii-ttc-sulgen-ii?Item
 id=301&amp;tmpl=component">Dieser Event wurde importiert von: https://ttc-s
 paichingen.de/Joomla/index.php/component/jevents/icalrepeat.detail/2026/02/
 07/1624/-/h-bk-ttc-spaichingen-ii-ttc-sulgen-ii?Itemid=301&amp;tmpl=compone
 nt</a>DTSTAMP:20260421T153004
DTSTART;TZID=Europe/Berlin:20260207T170000
SEQUENCE:0
TRANSP:OPAQUE
END:VEVENT
END:VCALENDAR